BEGIN:VCALENDAR
VERSION:2.0
PRODID:-//Mud City Fest - ECPv6.15.20//NONSGML v1.0//EN
CALSCALE:GREGORIAN
METHOD:PUBLISH
X-WR-CALNAME:Mud City Fest
X-ORIGINAL-URL:https://mudcityfest.ca
X-WR-CALDESC:Events for Mud City Fest
REFRESH-INTERVAL;VALUE=DURATION:PT1H
X-Robots-Tag:noindex
X-PUBLISHED-TTL:PT1H
BEGIN:VTIMEZONE
TZID:UTC
BEGIN:STANDARD
TZOFFSETFROM:+0000
TZOFFSETTO:+0000
TZNAME:UTC
DTSTART:20180101T000000
END:STANDARD
END:VTIMEZONE
BEGIN:VEVENT
DTSTART;TZID=UTC:20191003T200000
DTEND;TZID=UTC:20191003T230000
DTSTAMP:20260419T153036
CREATED:20190816T135941Z
LAST-MODIFIED:20190819T131904Z
UID:557-1570132800-1570143600@mudcityfest.ca
SUMMARY:RED FANG
DESCRIPTION:Doors at 7:30 pm / Show at 8 pm \n19+ \nNo refunds \nBuy Tickets
URL:https://mudcityfest.ca/events/red-fang/
LOCATION:Tide & Boar Ballroom\, 700 Main Street\, Moncton\, New Brunswick\, Canada
CATEGORIES:Indoor Shows,Main Stage
ATTACH;FMTTYPE=image/jpeg:https://mudcityfest.ca/wp-content/uploads/2019/08/red-fang.jpg
END:VEVENT
BEGIN:VEVENT
DTSTART;TZID=UTC:20191002T200000
DTEND;TZID=UTC:20191002T220000
DTSTAMP:20260419T153036
CREATED:20190409T151801Z
LAST-MODIFIED:20190816T164426Z
UID:154-1570046400-1570053600@mudcityfest.ca
SUMMARY:Hollerado
DESCRIPTION:Doors at 7 pm / Show at 8 pm \n19+ \nNo refunds \nBuy Tickets
URL:https://mudcityfest.ca/events/hollerado/
LOCATION:Le Caveau\, Downing Street\, Moncton\, New Brunswick\, E1C 1E4\, Canada
CATEGORIES:Indoor Shows
ATTACH;FMTTYPE=image/jpeg:https://mudcityfest.ca/wp-content/uploads/2019/06/aexy8knyuvddcxjwqmne.jpg
END:VEVENT
BEGIN:VEVENT
DTSTART;TZID=UTC:20191001T190000
DTEND;TZID=UTC:20191001T190000
DTSTAMP:20260419T153036
CREATED:20190819T115034Z
LAST-MODIFIED:20190923T132157Z
UID:578-1569956400-1569956400@mudcityfest.ca
SUMMARY:Variety Show: Festival Edition
DESCRIPTION:Hosted by John Jerome \nDoors at 6 pm / Show at 7 pm \n19+ \nNo refunds
URL:https://mudcityfest.ca/events/variety-show-festival-edition/
LOCATION:Pink Flamingos Cabaret / Lounge\, 234 St. George Street\, Moncton\, New Brunswick\, E1C 1V8\, Canada
ATTACH;FMTTYPE=image/jpeg:https://mudcityfest.ca/wp-content/uploads/2019/08/49707163_2318196864878285_6783522139585642496_o.jpg
END:VEVENT
END:VCALENDAR